BEGIN:VCALENDAR
VERSION:2.0
PRODID:-//rssny.org//NONSGML kigkonsult.se iCalcreator 2.30.10//
CALSCALE:GREGORIAN
METHOD:PUBLISH
UID:43e348c1-affc-45dd-9d9e-79e48c158857
X-WR-CALDESC:Register here - https://airtable.com/appXGCAC8Qle5hwrm/shrO59M
 UISZyYYJ7D\n\nListen to wonderful Motown music led by professional musicia
 ns. Great way to head into the weekend!
X-WR-RELCALID:7b027fac4d1241fbf6f5e357e0ab0f4a
X-WR-TIMEZONE:America/New_York
BEGIN:VTIMEZONE
TZID:America/New_York
BEGIN:STANDARD
TZNAME:EST
DTSTART:20251102T020000
TZOFFSETFROM:-0400
TZOFFSETTO:-0500
RDATE:20261101T020000
END:STANDARD
BEGIN:DAYLIGHT
TZNAME:EDT
DTSTART:20260308T020000
TZOFFSETFROM:-0500
TZOFFSETTO:-0400
RDATE:20270314T020000
END:DAYLIGHT
END:VTIMEZONE
BEGIN:VEVENT
UID:606283b5-2eac-4190-8ae5-1380b8c2c32e
DTSTAMP:20260424T124049Z
DESCRIPTION:Register here - https://airtable.com/appXGCAC8Qle5hwrm/shrO59MU
 ISZyYYJ7D\n\nListen to wonderful Motown music led by professional musician
 s. Great way to head into the weekend!
DTSTART;TZID=America/New_York:20260410T140000
DTEND;TZID=America/New_York:20260410T150000
LOCATION:https://airtable.com/appXGCAC8Qle5hwrm/shrO59MUISZyYYJ7D
SUMMARY:Concerts in Motion: Celebration Fridays (ONLINE - This is not an RS
 S event)
END:VEVENT
END:VCALENDAR
