BEGIN:VCALENDAR
VERSION:2.0
PRODID:-//rssny.org//NONSGML kigkonsult.se iCalcreator 2.30.10//
CALSCALE:GREGORIAN
METHOD:PUBLISH
UID:49478d5f-8d10-4a8c-99ec-e4ffb66b1ba1
X-WR-CALDESC:Weekly non-competitive bridge game
X-WR-RELCALID:421605e316b03f28a050ffe4f3d28e79
X-WR-TIMEZONE:America/New_York
BEGIN:VTIMEZONE
TZID:America/New_York
BEGIN:STANDARD
TZNAME:EST
DTSTART:20251102T020000
TZOFFSETFROM:-0400
TZOFFSETTO:-0500
RDATE:20261101T020000
END:STANDARD
BEGIN:DAYLIGHT
TZNAME:EDT
DTSTART:20260308T020000
TZOFFSETFROM:-0500
TZOFFSETTO:-0400
RDATE:20270314T020000
END:DAYLIGHT
END:VTIMEZONE
BEGIN:VEVENT
UID:1972dada-045e-49de-aedc-184b040b015c
DTSTAMP:20260424T123639Z
DESCRIPTION:Weekly non-competitive bridge game
DTSTART;TZID=America/New_York:20260410T131500
DTEND;TZID=America/New_York:20260410T163000
LOCATION:
SUMMARY:Leisure Games Bridge (In Center)
END:VEVENT
END:VCALENDAR
