BEGIN:VCALENDAR
VERSION:2.0
PRODID:-//rssny.org//NONSGML kigkonsult.se iCalcreator 2.30.10//
CALSCALE:GREGORIAN
METHOD:PUBLISH
UID:66b9fc60-8d11-4e95-ac46-69e9038c5655
X-WR-CALDESC:This class is in the center.\n\nLevel: Beginner
X-WR-RELCALID:90a0a6d17338920b2b768119eddbe228
X-WR-TIMEZONE:America/New_York
BEGIN:VTIMEZONE
TZID:America/New_York
BEGIN:STANDARD
TZNAME:EST
DTSTART:20251102T020000
TZOFFSETFROM:-0400
TZOFFSETTO:-0500
RDATE:20261101T020000
END:STANDARD
BEGIN:DAYLIGHT
TZNAME:EDT
DTSTART:20260308T020000
TZOFFSETFROM:-0500
TZOFFSETTO:-0400
RDATE:20270314T020000
END:DAYLIGHT
END:VTIMEZONE
BEGIN:VEVENT
UID:8a862410-537d-446b-8308-c083d43d738d
DTSTAMP:20260424T155143Z
DESCRIPTION:This class is in the center.\n\nLevel: Beginner
DTSTART;TZID=America/New_York:20260331T130000
DTEND;TZID=America/New_York:20260331T140000
LOCATION:
SUMMARY:Technology Group Training with Caroline: Medical portal/My Chart (I
 N CENTER)
END:VEVENT
END:VCALENDAR
