BEGIN:VCALENDAR
VERSION:2.0
PRODID:-//rssny.org//NONSGML kigkonsult.se iCalcreator 2.30.10//
CALSCALE:GREGORIAN
METHOD:PUBLISH
UID:7d8fc892-700e-4be4-9aa7-06792570c27f
X-WR-CALDESC:Join us for breakfast at the Center!
X-WR-RELCALID:81a96afeefd57dd1d5d319e9060c671b
X-WR-TIMEZONE:America/New_York
BEGIN:VTIMEZONE
TZID:America/New_York
BEGIN:STANDARD
TZNAME:EST
DTSTART:20251102T020000
TZOFFSETFROM:-0400
TZOFFSETTO:-0500
RDATE:20261101T020000
END:STANDARD
BEGIN:DAYLIGHT
TZNAME:EDT
DTSTART:20260308T020000
TZOFFSETFROM:-0500
TZOFFSETTO:-0400
RDATE:20270314T020000
END:DAYLIGHT
END:VTIMEZONE
BEGIN:VEVENT
UID:048d7adb-f721-4a57-b542-e6db3caded8b
DTSTAMP:20260424T160137Z
DESCRIPTION:Join us for breakfast at the Center!
DTSTART;TZID=America/New_York:20260327T090000
DTEND;TZID=America/New_York:20260327T100000
LOCATION:
SUMMARY:Breakfast Club (In Center)
END:VEVENT
END:VCALENDAR
