BEGIN:VCALENDAR
VERSION:2.0
PRODID:-//rssny.org//NONSGML kigkonsult.se iCalcreator 2.30.10//
CALSCALE:GREGORIAN
METHOD:PUBLISH
UID:8c770a13-acb2-4118-b54e-ef3a633b4189
X-WR-CALDESC:Click Here to Register - https://airtable.com/appXGCAC8Qle5hwr
 m/shrO59MUISZyYYJ7D\n
X-WR-RELCALID:e26faa1a684df346354def7a97c7fd2c
X-WR-TIMEZONE:America/New_York
BEGIN:VTIMEZONE
TZID:America/New_York
BEGIN:STANDARD
TZNAME:EST
DTSTART:20251102T020000
TZOFFSETFROM:-0400
TZOFFSETTO:-0500
RDATE:20261101T020000
END:STANDARD
BEGIN:DAYLIGHT
TZNAME:EDT
DTSTART:20260308T020000
TZOFFSETFROM:-0500
TZOFFSETTO:-0400
RDATE:20270314T020000
END:DAYLIGHT
END:VTIMEZONE
BEGIN:VEVENT
UID:8e153ed5-65be-405a-b9b8-649d6fa67ab5
DTSTAMP:20260424T154442Z
DESCRIPTION:Click Here to Register - https://airtable.com/appXGCAC8Qle5hwrm
 /shrO59MUISZyYYJ7D\n
DTSTART;TZID=America/New_York:20260326T130000
DTEND;TZID=America/New_York:20260326T140000
LOCATION:https://airtable.com/appXGCAC8Qle5hwrm/shrO59MUISZyYYJ7D
SUMMARY:Concerts in Motion: Coffehouse Thursdays- NOT AN RSS PROGRAM)
END:VEVENT
END:VCALENDAR
