BEGIN:VCALENDAR
VERSION:2.0
PRODID:-//rssny.org//NONSGML kigkonsult.se iCalcreator 2.30.10//
CALSCALE:GREGORIAN
METHOD:PUBLISH
UID:13d4f656-188a-4f31-b02d-cac5997e8f38
X-WR-CALDESC:Register here - https://airtable.com/appXGCAC8Qle5hwrm/shrO59M
 UISZyYYJ7D\n\nListen to wonderful Motown music led by professional musicia
 ns. Great way to head into the weekend!
X-WR-RELCALID:fb1b9935461651c56b4810b54960d3df
X-WR-TIMEZONE:America/New_York
BEGIN:VTIMEZONE
TZID:America/New_York
BEGIN:STANDARD
TZNAME:EST
DTSTART:20251102T020000
TZOFFSETFROM:-0400
TZOFFSETTO:-0500
RDATE:20261101T020000
END:STANDARD
BEGIN:DAYLIGHT
TZNAME:EDT
DTSTART:20250309T020000
TZOFFSETFROM:-0500
TZOFFSETTO:-0400
RDATE:20260308T020000
RDATE:20270314T020000
END:DAYLIGHT
END:VTIMEZONE
BEGIN:VEVENT
UID:b9cc90ac-7f6c-4761-b869-ec1baeec70f5
DTSTAMP:20260424T155816Z
DESCRIPTION:Register here - https://airtable.com/appXGCAC8Qle5hwrm/shrO59MU
 ISZyYYJ7D\n\nListen to wonderful Motown music led by professional musician
 s. Great way to head into the weekend!
DTSTART;TZID=America/New_York:20260306T140000
DTEND;TZID=America/New_York:20260306T150000
LOCATION:https://airtable.com/appXGCAC8Qle5hwrm/shrO59MUISZyYYJ7D
SUMMARY:Concerts in Motion: Celebration Fridays (ONLINE - This is not an RS
 S event)
END:VEVENT
END:VCALENDAR
