BEGIN:VCALENDAR
VERSION:2.0
PRODID:-//rssny.org//NONSGML kigkonsult.se iCalcreator 2.30.10//
CALSCALE:GREGORIAN
METHOD:PUBLISH
UID:3525a320-ab12-41ae-8055-8c547af2646b
X-WR-CALDESC:
X-WR-RELCALID:ea2774b0370f652a74cac0d273c735b9
X-WR-TIMEZONE:America/New_York
BEGIN:VTIMEZONE
TZID:America/New_York
BEGIN:STANDARD
TZNAME:EST
DTSTART:20251102T020000
TZOFFSETFROM:-0400
TZOFFSETTO:-0500
RDATE:20261101T020000
END:STANDARD
BEGIN:DAYLIGHT
TZNAME:EDT
DTSTART:20250309T020000
TZOFFSETFROM:-0500
TZOFFSETTO:-0400
RDATE:20260308T020000
RDATE:20270314T020000
END:DAYLIGHT
END:VTIMEZONE
BEGIN:VEVENT
UID:47dc4f08-ba6b-4aae-b91d-5dc3702408f4
DTSTAMP:20260424T200456Z
DESCRIPTION:
DTSTART;TZID=America/New_York:20260227T131500
DTEND;TZID=America/New_York:20260227T140000
LOCATION:
SUMMARY:NY Presbyterian nutrition (Hybrid)
END:VEVENT
END:VCALENDAR
