BEGIN:VCALENDAR
VERSION:2.0
PRODID:-//rssny.org//NONSGML kigkonsult.se iCalcreator 2.30.10//
CALSCALE:GREGORIAN
METHOD:PUBLISH
UID:169f75c1-1622-4884-9459-6c972d63f24a
X-WR-CALDESC:
X-WR-RELCALID:57631a17a39f0579393d793d4d4888bd
X-WR-TIMEZONE:America/New_York
BEGIN:VTIMEZONE
TZID:America/New_York
BEGIN:STANDARD
TZNAME:EST
DTSTART:20251102T020000
TZOFFSETFROM:-0400
TZOFFSETTO:-0500
RDATE:20261101T020000
END:STANDARD
BEGIN:DAYLIGHT
TZNAME:EDT
DTSTART:20250309T020000
TZOFFSETFROM:-0500
TZOFFSETTO:-0400
RDATE:20260308T020000
RDATE:20270314T020000
END:DAYLIGHT
END:VTIMEZONE
BEGIN:VEVENT
UID:ddaedf54-b5b6-4f6b-b20f-2df370245303
DTSTAMP:20260424T200925Z
DESCRIPTION:
DTSTART;TZID=America/New_York:20260220T131500
DTEND;TZID=America/New_York:20260220T141500
LOCATION:
SUMMARY:Black History Month: 100 Years of Black History Commemorations: Rec
 ognizing and Honoring 100 years of black life\, history\,  and culture  (H
 ybrid)
END:VEVENT
END:VCALENDAR
