BEGIN:VCALENDAR
VERSION:2.0
PRODID:-//rssny.org//NONSGML kigkonsult.se iCalcreator 2.30.10//
CALSCALE:GREGORIAN
METHOD:PUBLISH
UID:e20cbd8d-64b3-40cc-9fb3-75ad673ab589
X-WR-CALDESC:Weekly non-competitive bridge game
X-WR-RELCALID:01a11e2df4800f88ea0e949bc467d74e
X-WR-TIMEZONE:America/New_York
BEGIN:VTIMEZONE
TZID:America/New_York
BEGIN:STANDARD
TZNAME:EST
DTSTART:20251102T020000
TZOFFSETFROM:-0400
TZOFFSETTO:-0500
RDATE:20261101T020000
END:STANDARD
BEGIN:DAYLIGHT
TZNAME:EDT
DTSTART:20250309T020000
TZOFFSETFROM:-0500
TZOFFSETTO:-0400
RDATE:20260308T020000
RDATE:20270314T020000
END:DAYLIGHT
END:VTIMEZONE
BEGIN:VEVENT
UID:aee512b6-3247-40e9-b3da-31bb956c3e7c
DTSTAMP:20260424T214226Z
DESCRIPTION:Weekly non-competitive bridge game
DTSTART;TZID=America/New_York:20260220T131500
DTEND;TZID=America/New_York:20260220T163000
LOCATION:
SUMMARY:Leisure Games Bridge (In Center) CANCELED
END:VEVENT
END:VCALENDAR
