BEGIN:VCALENDAR
VERSION:2.0
PRODID:-//rssny.org//NONSGML kigkonsult.se iCalcreator 2.30.10//
CALSCALE:GREGORIAN
METHOD:PUBLISH
UID:58f359c7-d6d6-4e7b-931b-6db1bfcdb7d0
X-WR-CALDESC:
X-WR-RELCALID:1db6229faf5a6838562ed01ee2bb97fd
X-WR-TIMEZONE:America/New_York
BEGIN:VTIMEZONE
TZID:America/New_York
BEGIN:STANDARD
TZNAME:EST
DTSTART:20251102T020000
TZOFFSETFROM:-0400
TZOFFSETTO:-0500
RDATE:20261101T020000
END:STANDARD
BEGIN:DAYLIGHT
TZNAME:EDT
DTSTART:20250309T020000
TZOFFSETFROM:-0500
TZOFFSETTO:-0400
RDATE:20260308T020000
RDATE:20270314T020000
END:DAYLIGHT
END:VTIMEZONE
BEGIN:VEVENT
UID:b28b2027-8a9a-450c-ac08-9355b7510fb0
DTSTAMP:20260424T200326Z
DESCRIPTION:
DTSTART;TZID=America/New_York:20260217T090000
DTEND;TZID=America/New_York:20260217T110000
LOCATION:
SUMMARY:BAKE SALE
END:VEVENT
END:VCALENDAR
