BEGIN:VCALENDAR
VERSION:2.0
PRODID:-//rssny.org//NONSGML kigkonsult.se iCalcreator 2.30.10//
CALSCALE:GREGORIAN
METHOD:PUBLISH
UID:fcaaa20f-7695-464e-8b03-8de5611ab8b1
X-WR-CALDESC:
X-WR-RELCALID:ddd43a7cc9eeaf5104d3dafbdab4969d
X-WR-TIMEZONE:America/New_York
BEGIN:VTIMEZONE
TZID:America/New_York
BEGIN:STANDARD
TZNAME:EST
DTSTART:20251102T020000
TZOFFSETFROM:-0400
TZOFFSETTO:-0500
RDATE:20261101T020000
END:STANDARD
BEGIN:DAYLIGHT
TZNAME:EDT
DTSTART:20250309T020000
TZOFFSETFROM:-0500
TZOFFSETTO:-0400
RDATE:20260308T020000
RDATE:20270314T020000
END:DAYLIGHT
END:VTIMEZONE
BEGIN:VEVENT
UID:02fb92c8-b9d9-4565-8b8b-ca795fbbfeb9
DTSTAMP:20260424T200323Z
DESCRIPTION:
DTSTART;TZID=America/New_York:20260212T093000
DTEND;TZID=America/New_York:20260212T130000
LOCATION:
SUMMARY:KNITTING SALE
END:VEVENT
END:VCALENDAR
