BEGIN:VCALENDAR
VERSION:2.0
PRODID:-//rssny.org//NONSGML kigkonsult.se iCalcreator 2.30.10//
CALSCALE:GREGORIAN
METHOD:PUBLISH
UID:18f5bcc7-40b8-4855-b077-0694a448e839
X-WR-CALDESC:Learn all about the history and health benefits of cacao. Enjo
 y a tasting and add your own flavorings.
X-WR-RELCALID:1f9392def040fcbcacf1b0c3ba0cd970
X-WR-TIMEZONE:America/New_York
BEGIN:VTIMEZONE
TZID:America/New_York
BEGIN:STANDARD
TZNAME:EST
DTSTART:20251102T020000
TZOFFSETFROM:-0400
TZOFFSETTO:-0500
RDATE:20261101T020000
END:STANDARD
BEGIN:DAYLIGHT
TZNAME:EDT
DTSTART:20250309T020000
TZOFFSETFROM:-0500
TZOFFSETTO:-0400
RDATE:20260308T020000
RDATE:20270314T020000
END:DAYLIGHT
END:VTIMEZONE
BEGIN:VEVENT
UID:c86e7c84-5f75-4c1a-9515-142c50b67a29
DTSTAMP:20260424T213238Z
DESCRIPTION:Learn all about the history and health benefits of cacao. Enjoy
  a tasting and add your own flavorings.
DTSTART;TZID=America/New_York:20260206T131500
DTEND;TZID=America/New_York:20260206T141500
LOCATION:
SUMMARY:Hot Chocolate Tasting! (In Center)
END:VEVENT
END:VCALENDAR
