BEGIN:VCALENDAR
VERSION:2.0
PRODID:-//rssny.org//NONSGML kigkonsult.se iCalcreator 2.30.10//
CALSCALE:GREGORIAN
METHOD:PUBLISH
UID:ef645872-7a67-4293-b399-00be14bc1833
X-WR-CALDESC:Come and start your morning with Chair yoga and meditation.
X-WR-RELCALID:2d0d99b0d948a16cca7da8c9fae2666a
X-WR-TIMEZONE:America/New_York
BEGIN:VTIMEZONE
TZID:America/New_York
BEGIN:STANDARD
TZNAME:EST
DTSTART:20251102T020000
TZOFFSETFROM:-0400
TZOFFSETTO:-0500
RDATE:20261101T020000
END:STANDARD
BEGIN:DAYLIGHT
TZNAME:EDT
DTSTART:20250309T020000
TZOFFSETFROM:-0500
TZOFFSETTO:-0400
RDATE:20260308T020000
RDATE:20270314T020000
END:DAYLIGHT
END:VTIMEZONE
BEGIN:VEVENT
UID:264cab6e-18f5-4c76-8f49-c4cfc03b5f52
DTSTAMP:20260424T200927Z
DESCRIPTION:Come and start your morning with Chair yoga and meditation.
DTSTART;TZID=America/New_York:20260205T094500
DTEND;TZID=America/New_York:20260205T104500
LOCATION:
SUMMARY:Chair Yoga with Anita: Qi Yoga for the Nervous System (In Center)
END:VEVENT
END:VCALENDAR
