BEGIN:VCALENDAR
VERSION:2.0
PRODID:-//rssny.org//NONSGML kigkonsult.se iCalcreator 2.30.10//
CALSCALE:GREGORIAN
METHOD:PUBLISH
UID:117b760d-c590-4c0d-a69c-33e7c2c35b0d
X-WR-CALDESC:
X-WR-RELCALID:5ee5d27d57806017d544e42bf2c1eeb5
X-WR-TIMEZONE:America/New_York
BEGIN:VTIMEZONE
TZID:America/New_York
BEGIN:STANDARD
TZNAME:EST
DTSTART:20251102T020000
TZOFFSETFROM:-0400
TZOFFSETTO:-0500
RDATE:20261101T020000
END:STANDARD
BEGIN:DAYLIGHT
TZNAME:EDT
DTSTART:20250309T020000
TZOFFSETFROM:-0500
TZOFFSETTO:-0400
RDATE:20260308T020000
RDATE:20270314T020000
END:DAYLIGHT
END:VTIMEZONE
BEGIN:VEVENT
UID:705fdcba-5d1d-4c7f-a2b2-5f352066e98a
DTSTAMP:20260424T183239Z
DESCRIPTION:
DTSTART;TZID=America/New_York:20260203T133000
DTEND;TZID=America/New_York:20260203T153000
LOCATION:
SUMMARY:Schervier Community Garden member re-registration
END:VEVENT
END:VCALENDAR
