BEGIN:VCALENDAR
VERSION:2.0
PRODID:-//rssny.org//NONSGML kigkonsult.se iCalcreator 2.30.10//
CALSCALE:GREGORIAN
METHOD:PUBLISH
UID:b822706c-9347-4b0a-95ee-287cd5f093fb
X-WR-CALDESC:Join Horace Mann for an encore presentation of “The History of
  Riverdale: A Journey Through Time.” presented by architect David V. Griff
 in.\n\nEngage in conversation with Horace Mann students to:\n- Learn about
  the historical significance of buildings that you’ve become familiar with
  for years.\n- Reminisce about the historic buildings right here in your n
 eighborhood.\n- Share those memories with students from Horace Mann\n\nSpa
 ce is limited! To register: In Main Office
X-WR-RELCALID:827fecb92a26f5378ff0ee7148201d89
X-WR-TIMEZONE:America/New_York
BEGIN:VTIMEZONE
TZID:America/New_York
BEGIN:STANDARD
TZNAME:EST
DTSTART:20251102T020000
TZOFFSETFROM:-0400
TZOFFSETTO:-0500
RDATE:20261101T020000
END:STANDARD
BEGIN:DAYLIGHT
TZNAME:EDT
DTSTART:20250309T020000
TZOFFSETFROM:-0500
TZOFFSETTO:-0400
RDATE:20260308T020000
RDATE:20270314T020000
END:DAYLIGHT
END:VTIMEZONE
BEGIN:VEVENT
UID:e8977933-43a1-40f0-8344-314f14cb4e92
DTSTAMP:20260424T215035Z
DESCRIPTION:Join Horace Mann for an encore presentation of “The History of 
 Riverdale: A Journey Through Time.” presented by architect David V. Griffi
 n.\n\nEngage in conversation with Horace Mann students to:\n- Learn about 
 the historical significance of buildings that you’ve become familiar with 
 for years.\n- Reminisce about the historic buildings right here in your ne
 ighborhood.\n- Share those memories with students from Horace Mann\n\nSpac
 e is limited! To register: In Main Office
DTSTART;TZID=America/New_York:20260129T100000
DTEND;TZID=America/New_York:20260129T143000
LOCATION:
SUMMARY:The History of Riverdale:  A Journey Through Time with Horace Mann 
  (In Person)
END:VEVENT
END:VCALENDAR
