BEGIN:VCALENDAR
VERSION:2.0
PRODID:-//rssny.org//NONSGML kigkonsult.se iCalcreator 2.30.10//
CALSCALE:GREGORIAN
METHOD:PUBLISH
UID:8d7fbdec-9653-46db-b8d2-fc0df9c5999a
X-WR-CALDESC:Come and start your morning with Chair yoga and meditation.
X-WR-RELCALID:f813014e6d932aac5b1ab9c1b93562ea
X-WR-TIMEZONE:America/New_York
BEGIN:VTIMEZONE
TZID:America/New_York
BEGIN:STANDARD
TZNAME:EST
DTSTART:20251102T020000
TZOFFSETFROM:-0400
TZOFFSETTO:-0500
RDATE:20261101T020000
END:STANDARD
BEGIN:DAYLIGHT
TZNAME:EDT
DTSTART:20250309T020000
TZOFFSETFROM:-0500
TZOFFSETTO:-0400
RDATE:20260308T020000
RDATE:20270314T020000
END:DAYLIGHT
END:VTIMEZONE
BEGIN:VEVENT
UID:4e22b1b2-adda-4981-b6e9-73d0dbdcf055
DTSTAMP:20260424T215055Z
DESCRIPTION:Come and start your morning with Chair yoga and meditation.
DTSTART;TZID=America/New_York:20260129T094500
DTEND;TZID=America/New_York:20260129T104500
LOCATION:
SUMMARY:Chair Yoga with Anita: Presence in Motion (In Center)
END:VEVENT
END:VCALENDAR
