BEGIN:VCALENDAR
VERSION:2.0
PRODID:-//rssny.org//NONSGML kigkonsult.se iCalcreator 2.30.10//
CALSCALE:GREGORIAN
METHOD:PUBLISH
UID:3b291bf3-47d9-49dc-889c-57d5e2487c31
X-WR-CALDESC:To register: https://airtable.com/appXGCAC8Qle5hwrm/shrO59MUIS
 ZyYYJ7D
X-WR-RELCALID:e04bc1887b0ba2e64cf8fb31c5308e7b
X-WR-TIMEZONE:America/New_York
BEGIN:VTIMEZONE
TZID:America/New_York
BEGIN:STANDARD
TZNAME:EST
DTSTART:20251102T020000
TZOFFSETFROM:-0400
TZOFFSETTO:-0500
RDATE:20261101T020000
END:STANDARD
BEGIN:DAYLIGHT
TZNAME:EDT
DTSTART:20250309T020000
TZOFFSETFROM:-0500
TZOFFSETTO:-0400
RDATE:20260308T020000
RDATE:20270314T020000
END:DAYLIGHT
END:VTIMEZONE
BEGIN:VEVENT
UID:8c355b5f-04cf-4911-ac5c-a25cb6f5efbb
DTSTAMP:20260424T214708Z
DESCRIPTION:To register: https://airtable.com/appXGCAC8Qle5hwrm/shrO59MUISZ
 yYYJ7D
DTSTART;TZID=America/New_York:20260114T130000
DTEND;TZID=America/New_York:20260114T140000
LOCATION:https://airtable.com/appXGCAC8Qle5hwrm/shrO59MUISZyYYJ7D
SUMMARY:Concerts in Motion: Chinese (This is not an RSS event)
END:VEVENT
END:VCALENDAR
