BEGIN:VCALENDAR
VERSION:2.0
PRODID:-//rssny.org//NONSGML kigkonsult.se iCalcreator 2.30.10//
CALSCALE:GREGORIAN
METHOD:PUBLISH
UID:31174c73-7ac2-4a75-a163-f3184c23e699
X-WR-CALDESC:Weekly non-competitive bridge game
X-WR-RELCALID:baf5e9eb1ea86f8df6a50f10f4860d00
X-WR-TIMEZONE:America/New_York
BEGIN:VTIMEZONE
TZID:America/New_York
BEGIN:STANDARD
TZNAME:EST
DTSTART:20251102T020000
TZOFFSETFROM:-0400
TZOFFSETTO:-0500
RDATE:20261101T020000
END:STANDARD
BEGIN:DAYLIGHT
TZNAME:EDT
DTSTART:20250309T020000
TZOFFSETFROM:-0500
TZOFFSETTO:-0400
RDATE:20260308T020000
RDATE:20270314T020000
END:DAYLIGHT
END:VTIMEZONE
BEGIN:VEVENT
UID:e8ed2d53-e9d5-42bc-96d4-396f1ec6af30
DTSTAMP:20260424T213848Z
DESCRIPTION:Weekly non-competitive bridge game
DTSTART;TZID=America/New_York:20260109T131500
DTEND;TZID=America/New_York:20260109T163000
LOCATION:
SUMMARY:Leisure Games Bridge (In Center)
END:VEVENT
END:VCALENDAR
