BEGIN:VCALENDAR
VERSION:2.0
PRODID:-//rssny.org//NONSGML kigkonsult.se iCalcreator 2.30.10//
CALSCALE:GREGORIAN
METHOD:PUBLISH
UID:da03b2ba-73bc-4fd3-a607-3e7dba79255b
X-WR-CALDESC:Kathryn Grayson\, an American actress and coloratura soprano\n
 https://en.wikipedia.org/wiki/Kathryn_Grayson
X-WR-RELCALID:44512b11a9d6fb39374c1318d7257187
X-WR-TIMEZONE:America/New_York
BEGIN:VTIMEZONE
TZID:America/New_York
BEGIN:STANDARD
TZNAME:EST
DTSTART:20251102T020000
TZOFFSETFROM:-0400
TZOFFSETTO:-0500
RDATE:20261101T020000
END:STANDARD
BEGIN:DAYLIGHT
TZNAME:EDT
DTSTART:20250309T020000
TZOFFSETFROM:-0500
TZOFFSETTO:-0400
RDATE:20260308T020000
RDATE:20270314T020000
END:DAYLIGHT
END:VTIMEZONE
BEGIN:VEVENT
UID:6dea8b75-41de-4dbd-9923-2f141470313a
DTSTAMP:20260424T233014Z
DESCRIPTION:Kathryn Grayson\, an American actress and coloratura soprano\nh
 ttps://en.wikipedia.org/wiki/Kathryn_Grayson
DTSTART;TZID=America/New_York:20260104T160000
DTEND;TZID=America/New_York:20260104T171500
LOCATION:https://rssny.org/music_appreciation.html
SUMMARY:Music Appreciation with Diana: Kathryn Grayson (Online)
END:VEVENT
END:VCALENDAR
