BEGIN:VCALENDAR
VERSION:2.0
PRODID:-//rssny.org//NONSGML kigkonsult.se iCalcreator 2.30.10//
CALSCALE:GREGORIAN
METHOD:PUBLISH
UID:07d159c5-f677-4d8d-947e-646979b6adb4
X-WR-CALDESC:Celebrate the holidays with the RSS Chorus.
X-WR-RELCALID:d9b150387b868858dd6a91db00c18820
X-WR-TIMEZONE:America/New_York
BEGIN:VTIMEZONE
TZID:America/New_York
BEGIN:STANDARD
TZNAME:EST
DTSTART:20251102T020000
TZOFFSETFROM:-0400
TZOFFSETTO:-0500
RDATE:20261101T020000
END:STANDARD
BEGIN:DAYLIGHT
TZNAME:EDT
DTSTART:20250309T020000
TZOFFSETFROM:-0500
TZOFFSETTO:-0400
RDATE:20260308T020000
RDATE:20270314T020000
END:DAYLIGHT
END:VTIMEZONE
BEGIN:VEVENT
UID:493ef274-4a38-48b2-8f2d-24b8bcc606d1
DTSTAMP:20260425T004738Z
DESCRIPTION:Celebrate the holidays with the RSS Chorus.
DTSTART;TZID=America/New_York:20251223T130000
DTEND;TZID=America/New_York:20251223T140000
LOCATION:
SUMMARY:RSS Chorus Holiday Concert (In Center)
END:VEVENT
END:VCALENDAR
