BEGIN:VCALENDAR
VERSION:2.0
PRODID:-//rssny.org//NONSGML kigkonsult.se iCalcreator 2.30.10//
CALSCALE:GREGORIAN
METHOD:PUBLISH
UID:3924cffb-d379-454a-a1d5-0283b18588a4
X-WR-CALDESC:This class is in the center.\n\nLevel: Beginner
X-WR-RELCALID:5d3204a5cc454f559b40e485b55bd66e
X-WR-TIMEZONE:America/New_York
BEGIN:VTIMEZONE
TZID:America/New_York
BEGIN:STANDARD
TZNAME:EST
DTSTART:20251102T020000
TZOFFSETFROM:-0400
TZOFFSETTO:-0500
RDATE:20261101T020000
END:STANDARD
BEGIN:DAYLIGHT
TZNAME:EDT
DTSTART:20250309T020000
TZOFFSETFROM:-0500
TZOFFSETTO:-0400
RDATE:20260308T020000
RDATE:20270314T020000
END:DAYLIGHT
END:VTIMEZONE
BEGIN:VEVENT
UID:64acc7a0-8798-455b-afd7-aaf1ebeb6dfb
DTSTAMP:20260425T004740Z
DESCRIPTION:This class is in the center.\n\nLevel: Beginner
DTSTART;TZID=America/New_York:20251216T130000
DTEND;TZID=America/New_York:20251216T140000
LOCATION:
SUMMARY:Technology Group Training with Caroline (IN CENTER)
END:VEVENT
END:VCALENDAR
