BEGIN:VCALENDAR
VERSION:2.0
PRODID:-//rssny.org//NONSGML kigkonsult.se iCalcreator 2.30.10//
CALSCALE:GREGORIAN
METHOD:PUBLISH
UID:6d18d5ef-e025-449c-baa0-21b7adffecb3
X-WR-CALDESC:Weekly non-competitive bridge game
X-WR-RELCALID:bec46d5865eb36213e4bc20ef2627c76
X-WR-TIMEZONE:America/New_York
BEGIN:VTIMEZONE
TZID:America/New_York
BEGIN:STANDARD
TZNAME:EST
DTSTART:20251102T020000
TZOFFSETFROM:-0400
TZOFFSETTO:-0500
RDATE:20261101T020000
END:STANDARD
BEGIN:DAYLIGHT
TZNAME:EDT
DTSTART:20250309T020000
TZOFFSETFROM:-0500
TZOFFSETTO:-0400
RDATE:20260308T020000
RDATE:20270314T020000
END:DAYLIGHT
END:VTIMEZONE
BEGIN:VEVENT
UID:e0256674-6bff-4ce9-b781-baa716c1d4b9
DTSTAMP:20260425T004750Z
DESCRIPTION:Weekly non-competitive bridge game
DTSTART;TZID=America/New_York:20251205T131500
DTEND;TZID=America/New_York:20251205T163000
LOCATION:
SUMMARY:Leisure Games Bridge (In Center)
END:VEVENT
END:VCALENDAR
