BEGIN:VCALENDAR
VERSION:2.0
PRODID:-//rssny.org//NONSGML kigkonsult.se iCalcreator 2.30.10//
CALSCALE:GREGORIAN
METHOD:PUBLISH
UID:4cd5fd4e-92f3-4748-9d37-46c3380632a6
X-WR-CALDESC:This class is in the center.\n\nLevel: Beginner
X-WR-RELCALID:396e3fb3c671ba9214da0cf45c10f14d
X-WR-TIMEZONE:America/New_York
BEGIN:VTIMEZONE
TZID:America/New_York
BEGIN:STANDARD
TZNAME:EST
DTSTART:20251102T020000
TZOFFSETFROM:-0400
TZOFFSETTO:-0500
RDATE:20261101T020000
END:STANDARD
BEGIN:DAYLIGHT
TZNAME:EDT
DTSTART:20250309T020000
TZOFFSETFROM:-0500
TZOFFSETTO:-0400
RDATE:20260308T020000
RDATE:20270314T020000
END:DAYLIGHT
END:VTIMEZONE
BEGIN:VEVENT
UID:8940349d-d444-46cf-932c-f19ba1cd414e
DTSTAMP:20260425T022027Z
DESCRIPTION:This class is in the center.\n\nLevel: Beginner
DTSTART;TZID=America/New_York:20251125T130000
DTEND;TZID=America/New_York:20251125T140000
LOCATION:
SUMMARY:Tech How-To's with Caroline (IN CENTER)
END:VEVENT
END:VCALENDAR
