BEGIN:VCALENDAR
VERSION:2.0
PRODID:-//rssny.org//NONSGML kigkonsult.se iCalcreator 2.30.10//
CALSCALE:GREGORIAN
METHOD:PUBLISH
UID:2130ecc2-2e6b-4ba1-bdda-7abf55c972b0
X-WR-CALDESC:https://us02web.zoom.us/meeting/register/MAikLnLtTxeW-egzTEH_s
 Q
X-WR-RELCALID:15323f9ac6e89af9f1cf1720299a40a1
X-WR-TIMEZONE:America/New_York
BEGIN:VTIMEZONE
TZID:America/New_York
BEGIN:STANDARD
TZNAME:EST
DTSTART:20251102T020000
TZOFFSETFROM:-0400
TZOFFSETTO:-0500
RDATE:20261101T020000
END:STANDARD
BEGIN:DAYLIGHT
TZNAME:EDT
DTSTART:20250309T020000
TZOFFSETFROM:-0500
TZOFFSETTO:-0400
RDATE:20260308T020000
RDATE:20270314T020000
END:DAYLIGHT
END:VTIMEZONE
BEGIN:VEVENT
UID:e4ab3a9d-9014-4fdd-ab0a-94219e853395
DTSTAMP:20260425T022045Z
DESCRIPTION:https://us02web.zoom.us/meeting/register/MAikLnLtTxeW-egzTEH_sQ
DTSTART;TZID=America/New_York:20251119T170000
DTEND;TZID=America/New_York:20251119T180000
LOCATION:https://us02web.zoom.us/meeting/register/MAikLnLtTxeW-egzTEH_sQ
SUMMARY:Looking to the Skies: A Phoenix Museum Presentation (Online)
END:VEVENT
END:VCALENDAR
