BEGIN:VCALENDAR
VERSION:2.0
PRODID:-//rssny.org//NONSGML kigkonsult.se iCalcreator 2.30.10//
CALSCALE:GREGORIAN
METHOD:PUBLISH
UID:cc0b1a71-9b27-4bf9-b7cc-4edbad2d390b
X-WR-CALDESC:
X-WR-RELCALID:437205f83249a1f4db8788f9f0759be3
X-WR-TIMEZONE:America/New_York
BEGIN:VTIMEZONE
TZID:America/New_York
BEGIN:STANDARD
TZNAME:EST
DTSTART:20251102T020000
TZOFFSETFROM:-0400
TZOFFSETTO:-0500
RDATE:20261101T020000
END:STANDARD
BEGIN:DAYLIGHT
TZNAME:EDT
DTSTART:20250309T020000
TZOFFSETFROM:-0500
TZOFFSETTO:-0400
RDATE:20260308T020000
RDATE:20270314T020000
END:DAYLIGHT
END:VTIMEZONE
BEGIN:VEVENT
UID:04859544-ba17-48c8-8b74-232993c43112
DTSTAMP:20260425T021932Z
DESCRIPTION:
DTSTART;TZID=America/New_York:20251118T100000
DTEND;TZID=America/New_York:20251118T120000
LOCATION:
SUMMARY:BAKE SALE
END:VEVENT
END:VCALENDAR
