BEGIN:VCALENDAR
VERSION:2.0
PRODID:-//rssny.org//NONSGML kigkonsult.se iCalcreator 2.30.10//
CALSCALE:GREGORIAN
METHOD:PUBLISH
UID:05c0688d-123b-4053-970f-2472043036ed
X-WR-CALDESC:Weekly non-competitive bridge game
X-WR-RELCALID:2c26a928e294d5aed7dfddc923a3ff5b
X-WR-TIMEZONE:America/New_York
BEGIN:VTIMEZONE
TZID:America/New_York
BEGIN:STANDARD
TZNAME:EST
DTSTART:20251102T020000
TZOFFSETFROM:-0400
TZOFFSETTO:-0500
RDATE:20261101T020000
END:STANDARD
BEGIN:DAYLIGHT
TZNAME:EDT
DTSTART:20250309T020000
TZOFFSETFROM:-0500
TZOFFSETTO:-0400
RDATE:20260308T020000
RDATE:20270314T020000
END:DAYLIGHT
END:VTIMEZONE
BEGIN:VEVENT
UID:ee34c29c-bb78-4da7-951a-fed673420d45
DTSTAMP:20260425T022135Z
DESCRIPTION:Weekly non-competitive bridge game
DTSTART;TZID=America/New_York:20251114T131500
DTEND;TZID=America/New_York:20251114T163000
LOCATION:
SUMMARY:Leisure Games Bridge (In Center)
END:VEVENT
END:VCALENDAR
