BEGIN:VCALENDAR
VERSION:2.0
PRODID:-//rssny.org//NONSGML kigkonsult.se iCalcreator 2.30.10//
CALSCALE:GREGORIAN
METHOD:PUBLISH
UID:93924740-a2cd-429b-9dec-0ec0ed7710e7
X-WR-CALDESC:Weekly non-competitive bridge game
X-WR-RELCALID:302d8285f20b75571a595e31ecf6206b
X-WR-TIMEZONE:America/New_York
BEGIN:VTIMEZONE
TZID:America/New_York
BEGIN:STANDARD
TZNAME:EST
DTSTART:20251102T020000
TZOFFSETFROM:-0400
TZOFFSETTO:-0500
RDATE:20261101T020000
END:STANDARD
BEGIN:DAYLIGHT
TZNAME:EDT
DTSTART:20250309T020000
TZOFFSETFROM:-0500
TZOFFSETTO:-0400
RDATE:20260308T020000
RDATE:20270314T020000
END:DAYLIGHT
END:VTIMEZONE
BEGIN:VEVENT
UID:4e3b952e-9792-4604-bf0f-93ba65bedcbb
DTSTAMP:20260425T022135Z
DESCRIPTION:Weekly non-competitive bridge game
DTSTART;TZID=America/New_York:20251107T131500
DTEND;TZID=America/New_York:20251107T163000
LOCATION:
SUMMARY:Leisure Games Bridge (In Center)
END:VEVENT
END:VCALENDAR
