BEGIN:VCALENDAR
VERSION:2.0
PRODID:-//rssny.org//NONSGML kigkonsult.se iCalcreator 2.30.10//
CALSCALE:GREGORIAN
METHOD:PUBLISH
UID:e765a4fa-c6e3-4eb3-9abc-52d00c9b579d
X-WR-CALDESC:Register Here if Attending Online - https://rssny.org/class-fo
 rms/chair-yoga-with-anita.html
X-WR-RELCALID:349172406d34571d008bdf6be625517a
X-WR-TIMEZONE:America/New_York
BEGIN:VTIMEZONE
TZID:America/New_York
BEGIN:STANDARD
TZNAME:EST
DTSTART:20251102T020000
TZOFFSETFROM:-0400
TZOFFSETTO:-0500
RDATE:20261101T020000
END:STANDARD
BEGIN:DAYLIGHT
TZNAME:EDT
DTSTART:20250309T020000
TZOFFSETFROM:-0500
TZOFFSETTO:-0400
RDATE:20260308T020000
RDATE:20270314T020000
END:DAYLIGHT
END:VTIMEZONE
BEGIN:VEVENT
UID:af2efb6d-c93d-4662-964a-3ede58514e56
DTSTAMP:20260425T022828Z
DESCRIPTION:Register Here if Attending Online - https://rssny.org/class-for
 ms/chair-yoga-with-anita.html
DTSTART;TZID=America/New_York:20251106T094500
DTEND;TZID=America/New_York:20251106T104500
LOCATION:https://rssny.org/class-forms/chair-yoga-with-anita.html
SUMMARY:Chair Yoga with Anita: Root to Rise and Resiliance (HYBRID)
END:VEVENT
END:VCALENDAR
