BEGIN:VCALENDAR
VERSION:2.0
PRODID:-//rssny.org//NONSGML kigkonsult.se iCalcreator 2.30.10//
CALSCALE:GREGORIAN
METHOD:PUBLISH
UID:7ee11059-1e37-4242-998a-57ac3694d0b8
X-WR-CALDESC:This class is in the center.\n\nLevel: Beginner
X-WR-RELCALID:7629b28d98cf6a7f987855ade77ad342
X-WR-TIMEZONE:America/New_York
BEGIN:VTIMEZONE
TZID:America/New_York
BEGIN:STANDARD
TZNAME:EST
DTSTART:20251102T020000
TZOFFSETFROM:-0400
TZOFFSETTO:-0500
RDATE:20261101T020000
END:STANDARD
BEGIN:DAYLIGHT
TZNAME:EDT
DTSTART:20250309T020000
TZOFFSETFROM:-0500
TZOFFSETTO:-0400
RDATE:20260308T020000
RDATE:20270314T020000
END:DAYLIGHT
END:VTIMEZONE
BEGIN:VEVENT
UID:edc5ee17-71a1-4de0-96c8-5ab7193b9152
DTSTAMP:20260425T022136Z
DESCRIPTION:This class is in the center.\n\nLevel: Beginner
DTSTART;TZID=America/New_York:20251104T130000
DTEND;TZID=America/New_York:20251104T140000
LOCATION:
SUMMARY:Tech How-To's with Caroline (IN CENTER)
END:VEVENT
END:VCALENDAR
