BEGIN:VCALENDAR
VERSION:2.0
PRODID:-//rssny.org//NONSGML kigkonsult.se iCalcreator 2.30.10//
CALSCALE:GREGORIAN
METHOD:PUBLISH
UID:c0f3af5f-f1ad-454a-90bf-699e518fe8be
X-WR-CALDESC:Register here - https://airtable.com/appXGCAC8Qle5hwrm/shrO59M
 UISZyYYJ7D
X-WR-RELCALID:d2c2f10f0d142bc9b890c9620f0bbf5b
X-WR-TIMEZONE:America/New_York
BEGIN:VTIMEZONE
TZID:America/New_York
BEGIN:STANDARD
TZNAME:EST
DTSTART:20251102T020000
TZOFFSETFROM:-0400
TZOFFSETTO:-0500
RDATE:20261101T020000
END:STANDARD
BEGIN:DAYLIGHT
TZNAME:EDT
DTSTART:20250309T020000
TZOFFSETFROM:-0500
TZOFFSETTO:-0400
RDATE:20260308T020000
RDATE:20270314T020000
END:DAYLIGHT
END:VTIMEZONE
BEGIN:VEVENT
UID:9e6a55a2-e3e9-44fa-a956-9980ab80eccb
DTSTAMP:20260425T022717Z
DESCRIPTION:Register here - https://airtable.com/appXGCAC8Qle5hwrm/shrO59MU
 ISZyYYJ7D
DTSTART;TZID=America/New_York:20251104T120000
DTEND;TZID=America/New_York:20251104T130000
LOCATION:https://airtable.com/appXGCAC8Qle5hwrm/shrO59MUISZyYYJ7D
SUMMARY:Concerts in Motion: Songbook Tuesdays (This is not an RSS event)
END:VEVENT
END:VCALENDAR
