BEGIN:VCALENDAR
VERSION:2.0
PRODID:-//rssny.org//NONSGML kigkonsult.se iCalcreator 2.30.10//
CALSCALE:GREGORIAN
METHOD:PUBLISH
UID:59ec4690-e454-4f20-b3c6-5bc8620e8fd2
X-WR-CALDESC:Weekly non-competitive bridge game
X-WR-RELCALID:30df778c2140088828818233b82e5a8a
X-WR-TIMEZONE:America/New_York
BEGIN:VTIMEZONE
TZID:America/New_York
BEGIN:STANDARD
TZNAME:EST
DTSTART:20241103T020000
TZOFFSETFROM:-0400
TZOFFSETTO:-0500
RDATE:20251102T020000
RDATE:20261101T020000
END:STANDARD
BEGIN:DAYLIGHT
TZNAME:EDT
DTSTART:20250309T020000
TZOFFSETFROM:-0500
TZOFFSETTO:-0400
RDATE:20260308T020000
RDATE:20270314T020000
END:DAYLIGHT
END:VTIMEZONE
BEGIN:VEVENT
UID:22626aba-fb30-4e9b-a2b3-a6330b77a9b5
DTSTAMP:20260425T040039Z
DESCRIPTION:Weekly non-competitive bridge game
DTSTART;TZID=America/New_York:20251031T131500
DTEND;TZID=America/New_York:20251031T163000
LOCATION:
SUMMARY:Leisure Games Bridge (In Center)
END:VEVENT
END:VCALENDAR
