BEGIN:VCALENDAR
VERSION:2.0
PRODID:-//rssny.org//NONSGML kigkonsult.se iCalcreator 2.30.10//
CALSCALE:GREGORIAN
METHOD:PUBLISH
UID:343dc20f-2b53-43ab-b3b6-5462a19e2fae
X-WR-CALDESC:To register: https://forms.office.com/g/Zzstn9zUFF\n\nJoin NYC
  Aging and the Fort Greene Grace Agard - Harewood OAC for a virtual  Healt
 hy Halloween cooking demonstration on October 29th. Learn how to make Butt
 ernut Squash and Apple Soup.
X-WR-RELCALID:f5b24667bc1b618093aa015c284931ad
X-WR-TIMEZONE:America/New_York
BEGIN:VTIMEZONE
TZID:America/New_York
BEGIN:STANDARD
TZNAME:EST
DTSTART:20241103T020000
TZOFFSETFROM:-0400
TZOFFSETTO:-0500
RDATE:20251102T020000
RDATE:20261101T020000
END:STANDARD
BEGIN:DAYLIGHT
TZNAME:EDT
DTSTART:20250309T020000
TZOFFSETFROM:-0500
TZOFFSETTO:-0400
RDATE:20260308T020000
RDATE:20270314T020000
END:DAYLIGHT
END:VTIMEZONE
BEGIN:VEVENT
UID:3b9f1387-4ec6-4112-aa7e-d8b476f426f6
DTSTAMP:20260425T040040Z
DESCRIPTION:To register: https://forms.office.com/g/Zzstn9zUFF\n\nJoin NYC 
 Aging and the Fort Greene Grace Agard - Harewood OAC for a virtual  Health
 y Halloween cooking demonstration on October 29th. Learn how to make Butte
 rnut Squash and Apple Soup.
DTSTART;TZID=America/New_York:20251029T110000
DTEND;TZID=America/New_York:20251029T120000
LOCATION:
SUMMARY:Healthy Halloween Cooking Demonstration (Online - Not an RSS Event)
END:VEVENT
END:VCALENDAR
