BEGIN:VCALENDAR
VERSION:2.0
PRODID:-//rssny.org//NONSGML kigkonsult.se iCalcreator 2.30.10//
CALSCALE:GREGORIAN
METHOD:PUBLISH
UID:feca6034-2cbb-4d40-92e2-423ac8739296
X-WR-CALDESC:
X-WR-RELCALID:3182b4b68d2fac74226bcda4ae8a4296
X-WR-TIMEZONE:America/New_York
BEGIN:VTIMEZONE
TZID:America/New_York
BEGIN:STANDARD
TZNAME:EST
DTSTART:20241103T020000
TZOFFSETFROM:-0400
TZOFFSETTO:-0500
RDATE:20251102T020000
RDATE:20261101T020000
END:STANDARD
BEGIN:DAYLIGHT
TZNAME:EDT
DTSTART:20250309T020000
TZOFFSETFROM:-0500
TZOFFSETTO:-0400
RDATE:20260308T020000
RDATE:20270314T020000
END:DAYLIGHT
END:VTIMEZONE
BEGIN:VEVENT
UID:1c43ebdb-b632-4064-9f50-419ae224b6f9
DTSTAMP:20260425T035939Z
DESCRIPTION:
DTSTART;TZID=America/New_York:20251029T060000
DTEND;TZID=America/New_York:20251029T060001
LOCATION:
SUMMARY:Breast Cancer Awareness Day
END:VEVENT
END:VCALENDAR
