BEGIN:VCALENDAR
VERSION:2.0
PRODID:-//rssny.org//NONSGML kigkonsult.se iCalcreator 2.30.10//
CALSCALE:GREGORIAN
METHOD:PUBLISH
UID:efa1acc2-d1c0-4307-8bfd-0fa1d463b86d
X-WR-CALDESC:Register here - https://airtable.com/appXGCAC8Qle5hwrm/shrO59M
 UISZyYYJ7D\n\nListen to wonderful Motown music led by professional musicia
 ns. Great way to head into the weekend!
X-WR-RELCALID:84ca774b69df685301eef99c55e466c9
X-WR-TIMEZONE:America/New_York
BEGIN:VTIMEZONE
TZID:America/New_York
BEGIN:STANDARD
TZNAME:EST
DTSTART:20241103T020000
TZOFFSETFROM:-0400
TZOFFSETTO:-0500
RDATE:20251102T020000
RDATE:20261101T020000
END:STANDARD
BEGIN:DAYLIGHT
TZNAME:EDT
DTSTART:20250309T020000
TZOFFSETFROM:-0500
TZOFFSETTO:-0400
RDATE:20260308T020000
RDATE:20270314T020000
END:DAYLIGHT
END:VTIMEZONE
BEGIN:VEVENT
UID:7ab4057b-bf84-46c4-bc32-950bd7ae691f
DTSTAMP:20260425T040400Z
DESCRIPTION:Register here - https://airtable.com/appXGCAC8Qle5hwrm/shrO59MU
 ISZyYYJ7D\n\nListen to wonderful Motown music led by professional musician
 s. Great way to head into the weekend!
DTSTART;TZID=America/New_York:20251017T140000
DTEND;TZID=America/New_York:20251017T150000
LOCATION:https://airtable.com/appXGCAC8Qle5hwrm/shrO59MUISZyYYJ7D
SUMMARY:Concerts in Motion: Celebration Fridays (ONLINE - This is not an RS
 S event)
END:VEVENT
END:VCALENDAR
