BEGIN:VCALENDAR
VERSION:2.0
PRODID:-//rssny.org//NONSGML kigkonsult.se iCalcreator 2.30.10//
CALSCALE:GREGORIAN
METHOD:PUBLISH
UID:78871d9a-063d-4cc1-b145-f491a071808b
X-WR-CALDESC:Weekly non-competitive bridge game
X-WR-RELCALID:020bbaf3779f0c36321f4178223e9c8c
X-WR-TIMEZONE:America/New_York
BEGIN:VTIMEZONE
TZID:America/New_York
BEGIN:STANDARD
TZNAME:EST
DTSTART:20241103T020000
TZOFFSETFROM:-0400
TZOFFSETTO:-0500
RDATE:20251102T020000
RDATE:20261101T020000
END:STANDARD
BEGIN:DAYLIGHT
TZNAME:EDT
DTSTART:20250309T020000
TZOFFSETFROM:-0500
TZOFFSETTO:-0400
RDATE:20260308T020000
RDATE:20270314T020000
END:DAYLIGHT
END:VTIMEZONE
BEGIN:VEVENT
UID:7fc4266f-a2ab-42c7-93e0-2f9bb89acd79
DTSTAMP:20260425T041322Z
DESCRIPTION:Weekly non-competitive bridge game
DTSTART;TZID=America/New_York:20251017T131500
DTEND;TZID=America/New_York:20251017T163000
LOCATION:
SUMMARY:Leisure Games Bridge (In Center)
END:VEVENT
END:VCALENDAR
