BEGIN:VCALENDAR
VERSION:2.0
PRODID:-//rssny.org//NONSGML kigkonsult.se iCalcreator 2.30.10//
CALSCALE:GREGORIAN
METHOD:PUBLISH
UID:b361c48b-bf9f-49c9-add6-abf730a2e354
X-WR-CALDESC:
X-WR-RELCALID:c474f16890e71ca0ad50a28a1fb06f33
X-WR-TIMEZONE:America/New_York
BEGIN:VTIMEZONE
TZID:America/New_York
BEGIN:STANDARD
TZNAME:EST
DTSTART:20241103T020000
TZOFFSETFROM:-0400
TZOFFSETTO:-0500
RDATE:20251102T020000
RDATE:20261101T020000
END:STANDARD
BEGIN:DAYLIGHT
TZNAME:EDT
DTSTART:20250309T020000
TZOFFSETFROM:-0500
TZOFFSETTO:-0400
RDATE:20260308T020000
RDATE:20270314T020000
END:DAYLIGHT
END:VTIMEZONE
BEGIN:VEVENT
UID:181834c9-9d58-4a3b-86ce-f0eb9b42a173
DTSTAMP:20260425T035849Z
DESCRIPTION:
DTSTART;TZID=America/New_York:20251013T060000
DTEND;TZID=America/New_York:20251013T060001
LOCATION:
SUMMARY:Indigenous People's Day - Center Closed
END:VEVENT
END:VCALENDAR
