BEGIN:VCALENDAR
VERSION:2.0
PRODID:-//rssny.org//NONSGML kigkonsult.se iCalcreator 2.30.10//
CALSCALE:GREGORIAN
METHOD:PUBLISH
UID:7fdc2fe5-15b4-4bfd-b6c5-08acd69e9b10
X-WR-CALDESC:\n
X-WR-RELCALID:bcdc1e3cc1d7f840fca64d4cec2e540b
X-WR-TIMEZONE:America/New_York
BEGIN:VTIMEZONE
TZID:America/New_York
BEGIN:STANDARD
TZNAME:EST
DTSTART:20241103T020000
TZOFFSETFROM:-0400
TZOFFSETTO:-0500
RDATE:20251102T020000
RDATE:20261101T020000
END:STANDARD
BEGIN:DAYLIGHT
TZNAME:EDT
DTSTART:20250309T020000
TZOFFSETFROM:-0500
TZOFFSETTO:-0400
RDATE:20260308T020000
RDATE:20270314T020000
END:DAYLIGHT
END:VTIMEZONE
BEGIN:VEVENT
UID:4e000615-0c11-462e-9d90-80da06d45c39
DTSTAMP:20260425T035939Z
DESCRIPTION:\n
DTSTART;TZID=America/New_York:20251002T100000
DTEND;TZID=America/New_York:20251002T150000
LOCATION:
SUMMARY:Blood Pressure Testing (In Center)
END:VEVENT
END:VCALENDAR
