BEGIN:VCALENDAR
VERSION:2.0
PRODID:-//rssny.org//NONSGML kigkonsult.se iCalcreator 2.30.10//
CALSCALE:GREGORIAN
METHOD:PUBLISH
UID:c45dcb26-cf4d-4b38-9886-f29f5e431326
X-WR-CALDESC:
X-WR-RELCALID:6ae8ac736ee1cc7f84efb39369cb9ba8
X-WR-TIMEZONE:America/New_York
BEGIN:VTIMEZONE
TZID:America/New_York
BEGIN:STANDARD
TZNAME:EST
DTSTART:20241103T020000
TZOFFSETFROM:-0400
TZOFFSETTO:-0500
RDATE:20251102T020000
RDATE:20261101T020000
END:STANDARD
BEGIN:DAYLIGHT
TZNAME:EDT
DTSTART:20250309T020000
TZOFFSETFROM:-0500
TZOFFSETTO:-0400
RDATE:20260308T020000
END:DAYLIGHT
END:VTIMEZONE
BEGIN:VEVENT
UID:938e73d8-9de5-4243-b47c-dc87ebe1ffb9
DTSTAMP:20260425T105601Z
DESCRIPTION:
DTSTART;TZID=America/New_York:20250623T120000
DTEND;TZID=America/New_York:20250623T130000
LOCATION:
SUMMARY:Concerts in Motion: Meditative Mondays (This is not an RSS event)
END:VEVENT
END:VCALENDAR
