BEGIN:VCALENDAR
VERSION:2.0
PRODID:-//rssny.org//NONSGML kigkonsult.se iCalcreator 2.30.10//
CALSCALE:GREGORIAN
METHOD:PUBLISH
UID:d6812048-b727-42ff-bb85-6618286093aa
X-WR-CALDESC:To register: https://rssny.org/class-forms/ny-presbyterian.htm
 l
X-WR-RELCALID:f8f3ffd3e52bf803cfcb234809faa747
X-WR-TIMEZONE:America/New_York
BEGIN:VTIMEZONE
TZID:America/New_York
BEGIN:STANDARD
TZNAME:EST
DTSTART:20241103T020000
TZOFFSETFROM:-0400
TZOFFSETTO:-0500
RDATE:20251102T020000
RDATE:20261101T020000
END:STANDARD
BEGIN:DAYLIGHT
TZNAME:EDT
DTSTART:20250309T020000
TZOFFSETFROM:-0500
TZOFFSETTO:-0400
RDATE:20260308T020000
END:DAYLIGHT
END:VTIMEZONE
BEGIN:VEVENT
UID:b7cb0ba4-68af-45a0-8398-5c245a7fbb70
DTSTAMP:20260425T104932Z
DESCRIPTION:To register: https://rssny.org/class-forms/ny-presbyterian.html
DTSTART;TZID=America/New_York:20250620T131500
DTEND;TZID=America/New_York:20250620T140000
LOCATION:https://rssny.org/class-forms/ny-presbyterian.html
SUMMARY:NY Presbyterian Nutrition: Nutrition to Support the Immune System (
 Hybrid)
END:VEVENT
END:VCALENDAR
