BEGIN:VCALENDAR
VERSION:2.0
PRODID:-//rssny.org//NONSGML kigkonsult.se iCalcreator 2.30.10//
CALSCALE:GREGORIAN
METHOD:PUBLISH
UID:feb03e58-4d25-47d1-b6bf-8c95eaa3f08b
X-WR-CALDESC:REGISTER HERE: https://rssny.org/class-forms/technology-classe
 s.html\n\nThis class is online.\nLevel: Beginner\n\nThis session is led by
  Tabitha Rosa\, Virtual Programs Coordinator and Tech Specialist.
X-WR-RELCALID:09a2cd16db6e8636cdb9e374dec1f011
X-WR-TIMEZONE:America/New_York
BEGIN:VTIMEZONE
TZID:America/New_York
BEGIN:STANDARD
TZNAME:EST
DTSTART:20241103T020000
TZOFFSETFROM:-0400
TZOFFSETTO:-0500
RDATE:20251102T020000
RDATE:20261101T020000
END:STANDARD
BEGIN:DAYLIGHT
TZNAME:EDT
DTSTART:20250309T020000
TZOFFSETFROM:-0500
TZOFFSETTO:-0400
RDATE:20260308T020000
END:DAYLIGHT
END:VTIMEZONE
BEGIN:VEVENT
UID:189eb47b-9cea-4593-a3cf-a6bbb3888957
DTSTAMP:20260425T104236Z
DESCRIPTION:REGISTER HERE: https://rssny.org/class-forms/technology-classes
 .html\n\nThis class is online.\nLevel: Beginner\n\nThis session is led by 
 Tabitha Rosa\, Virtual Programs Coordinator and Tech Specialist.
DTSTART;TZID=America/New_York:20250612T110000
DTEND;TZID=America/New_York:20250612T120000
LOCATION:https://rssny.org/class-forms/technology-classes.html
SUMMARY:Tech How-To's:  Mastering Messaging Apps  (ONLINE)
END:VEVENT
END:VCALENDAR
