BEGIN:VCALENDAR
VERSION:2.0
PRODID:-//rssny.org//NONSGML kigkonsult.se iCalcreator 2.30.10//
CALSCALE:GREGORIAN
METHOD:PUBLISH
UID:c05e2d82-c782-4847-9ff3-0ea9b19db666
X-WR-CALDESC:If you are interested in joining this group send an email to i
 nfo@rssny.org or call 718.884.5900
X-WR-RELCALID:07f147509d8fe55f8887b2f84db9914d
X-WR-TIMEZONE:America/New_York
BEGIN:VTIMEZONE
TZID:America/New_York
BEGIN:STANDARD
TZNAME:EST
DTSTART:20241103T020000
TZOFFSETFROM:-0400
TZOFFSETTO:-0500
RDATE:20251102T020000
RDATE:20261101T020000
END:STANDARD
BEGIN:DAYLIGHT
TZNAME:EDT
DTSTART:20250309T020000
TZOFFSETFROM:-0500
TZOFFSETTO:-0400
RDATE:20260308T020000
END:DAYLIGHT
END:VTIMEZONE
BEGIN:VEVENT
UID:aae2b8ba-295d-46ca-a559-fa73698e9b48
DTSTAMP:20260425T103502Z
DESCRIPTION:If you are interested in joining this group send an email to in
 fo@rssny.org or call 718.884.5900
DTSTART;TZID=America/New_York:20250604T130000
DTEND;TZID=America/New_York:20250604T140000
LOCATION:
SUMMARY:Caregivers Support Group  (Hybrid)
END:VEVENT
END:VCALENDAR
