BEGIN:VCALENDAR
VERSION:2.0
PRODID:-//rssny.org//NONSGML kigkonsult.se iCalcreator 2.30.10//
CALSCALE:GREGORIAN
METHOD:PUBLISH
UID:51b4c6eb-e2db-4e9a-a230-235725aa57fa
X-WR-CALDESC:Join us for breakfast at the Center!
X-WR-RELCALID:53aac00f729afc9d96ea719d91e9b378
X-WR-TIMEZONE:America/New_York
BEGIN:VTIMEZONE
TZID:America/New_York
BEGIN:STANDARD
TZNAME:EST
DTSTART:20261101T020000
TZOFFSETFROM:-0400
TZOFFSETTO:-0500
RDATE:20271107T020000
END:STANDARD
BEGIN:DAYLIGHT
TZNAME:EDT
DTSTART:20260308T020000
TZOFFSETFROM:-0500
TZOFFSETTO:-0400
RDATE:20270314T020000
RDATE:20280312T020000
END:DAYLIGHT
END:VTIMEZONE
BEGIN:VEVENT
UID:034f60e2-8e42-4322-b4f9-34fa3f58e05a
DTSTAMP:20260423T130252Z
DESCRIPTION:Join us for breakfast at the Center!
DTSTART;TZID=America/New_York:20270122T090000
DTEND;TZID=America/New_York:20270122T100000
LOCATION:
SUMMARY:Breakfast Club (In Center)
END:VEVENT
END:VCALENDAR
