BEGIN:VCALENDAR
VERSION:2.0
PRODID:-//rssny.org//NONSGML kigkonsult.se iCalcreator 2.30.10//
CALSCALE:GREGORIAN
METHOD:PUBLISH
UID:ffded6a1-aab7-4998-8d12-3bfdf0abc75a
X-WR-CALDESC:Join us for breakfast at the Center!
X-WR-RELCALID:432f63f2aa9396e144fae4d65786bc08
X-WR-TIMEZONE:America/New_York
BEGIN:VTIMEZONE
TZID:America/New_York
BEGIN:STANDARD
TZNAME:EST
DTSTART:20261101T020000
TZOFFSETFROM:-0400
TZOFFSETTO:-0500
RDATE:20271107T020000
END:STANDARD
BEGIN:DAYLIGHT
TZNAME:EDT
DTSTART:20260308T020000
TZOFFSETFROM:-0500
TZOFFSETTO:-0400
RDATE:20270314T020000
RDATE:20280312T020000
END:DAYLIGHT
END:VTIMEZONE
BEGIN:VEVENT
UID:3a4f87f2-1e0e-40c3-af1a-32e78c699289
DTSTAMP:20260423T130414Z
DESCRIPTION:Join us for breakfast at the Center!
DTSTART;TZID=America/New_York:20270111T090000
DTEND;TZID=America/New_York:20270111T100000
LOCATION:
SUMMARY:Breakfast Club (In Center)
END:VEVENT
END:VCALENDAR
