BEGIN:VCALENDAR
VERSION:2.0
PRODID:-//rssny.org//NONSGML kigkonsult.se iCalcreator 2.30.10//
CALSCALE:GREGORIAN
METHOD:PUBLISH
UID:b7fa0235-fee6-4819-b8d5-af2ee64271d1
X-WR-CALDESC:Join us for breakfast at the Center!
X-WR-RELCALID:2445f5070ad210a2a0abc8f374b8fb68
X-WR-TIMEZONE:America/New_York
BEGIN:VTIMEZONE
TZID:America/New_York
BEGIN:STANDARD
TZNAME:EST
DTSTART:20261101T020000
TZOFFSETFROM:-0400
TZOFFSETTO:-0500
RDATE:20271107T020000
END:STANDARD
BEGIN:DAYLIGHT
TZNAME:EDT
DTSTART:20260308T020000
TZOFFSETFROM:-0500
TZOFFSETTO:-0400
RDATE:20270314T020000
RDATE:20280312T020000
END:DAYLIGHT
END:VTIMEZONE
BEGIN:VEVENT
UID:cbcfcb8d-31f4-4c66-afaa-c9220e1f4dad
DTSTAMP:20260423T101011Z
DESCRIPTION:Join us for breakfast at the Center!
DTSTART;TZID=America/New_York:20261230T090000
DTEND;TZID=America/New_York:20261230T100000
LOCATION:
SUMMARY:Breakfast Club (In Center)
END:VEVENT
END:VCALENDAR
