BEGIN:VCALENDAR
VERSION:2.0
PRODID:-//rssny.org//NONSGML kigkonsult.se iCalcreator 2.30.10//
CALSCALE:GREGORIAN
METHOD:PUBLISH
UID:8098eeb3-4944-416e-9294-3033d4ddb6b9
X-WR-CALDESC:Join us for breakfast at the Center!
X-WR-RELCALID:782989115a9cdd649bf8073724b03447
X-WR-TIMEZONE:America/New_York
BEGIN:VTIMEZONE
TZID:America/New_York
BEGIN:STANDARD
TZNAME:EST
DTSTART:20261101T020000
TZOFFSETFROM:-0400
TZOFFSETTO:-0500
RDATE:20271107T020000
END:STANDARD
BEGIN:DAYLIGHT
TZNAME:EDT
DTSTART:20260308T020000
TZOFFSETFROM:-0500
TZOFFSETTO:-0400
RDATE:20270314T020000
RDATE:20280312T020000
END:DAYLIGHT
END:VTIMEZONE
BEGIN:VEVENT
UID:a0cef36f-ebe9-4b5b-bd88-2e97f9267707
DTSTAMP:20260423T101015Z
DESCRIPTION:Join us for breakfast at the Center!
DTSTART;TZID=America/New_York:20261228T090000
DTEND;TZID=America/New_York:20261228T100000
LOCATION:
SUMMARY:Breakfast Club (In Center)
END:VEVENT
END:VCALENDAR
