BEGIN:VCALENDAR
VERSION:2.0
PRODID:-//rssny.org//NONSGML kigkonsult.se iCalcreator 2.30.10//
CALSCALE:GREGORIAN
METHOD:PUBLISH
UID:43e464b7-17a3-4bd9-ab9a-7b191327b7f2
X-WR-CALDESC:Join us for breakfast at the Center!
X-WR-RELCALID:a751d6983e3cd07e52623db2bf05bbb5
X-WR-TIMEZONE:America/New_York
BEGIN:VTIMEZONE
TZID:America/New_York
BEGIN:STANDARD
TZNAME:EST
DTSTART:20261101T020000
TZOFFSETFROM:-0400
TZOFFSETTO:-0500
RDATE:20271107T020000
END:STANDARD
BEGIN:DAYLIGHT
TZNAME:EDT
DTSTART:20260308T020000
TZOFFSETFROM:-0500
TZOFFSETTO:-0400
RDATE:20270314T020000
RDATE:20280312T020000
END:DAYLIGHT
END:VTIMEZONE
BEGIN:VEVENT
UID:c3267c7f-c068-43aa-820b-dedcc211ce69
DTSTAMP:20260423T101015Z
DESCRIPTION:Join us for breakfast at the Center!
DTSTART;TZID=America/New_York:20261221T090000
DTEND;TZID=America/New_York:20261221T100000
LOCATION:
SUMMARY:Breakfast Club (In Center)
END:VEVENT
END:VCALENDAR
