BEGIN:VCALENDAR
VERSION:2.0
PRODID:-//rssny.org//NONSGML kigkonsult.se iCalcreator 2.30.10//
CALSCALE:GREGORIAN
METHOD:PUBLISH
UID:af06eb3c-6b43-437e-b245-71323d98bf27
X-WR-CALDESC:Join us for breakfast at the Center!
X-WR-RELCALID:9fe8a1e89084bb6cf025f58bddf741b4
X-WR-TIMEZONE:America/New_York
BEGIN:VTIMEZONE
TZID:America/New_York
BEGIN:STANDARD
TZNAME:EST
DTSTART:20261101T020000
TZOFFSETFROM:-0400
TZOFFSETTO:-0500
RDATE:20271107T020000
END:STANDARD
BEGIN:DAYLIGHT
TZNAME:EDT
DTSTART:20260308T020000
TZOFFSETFROM:-0500
TZOFFSETTO:-0400
RDATE:20270314T020000
RDATE:20280312T020000
END:DAYLIGHT
END:VTIMEZONE
BEGIN:VEVENT
UID:99408781-978a-4619-a4a8-2f354e166256
DTSTAMP:20260423T101012Z
DESCRIPTION:Join us for breakfast at the Center!
DTSTART;TZID=America/New_York:20261218T090000
DTEND;TZID=America/New_York:20261218T100000
LOCATION:
SUMMARY:Breakfast Club (In Center)
END:VEVENT
END:VCALENDAR
