BEGIN:VCALENDAR
VERSION:2.0
PRODID:-//rssny.org//NONSGML kigkonsult.se iCalcreator 2.30.10//
CALSCALE:GREGORIAN
METHOD:PUBLISH
UID:ef18b5c0-0d2d-4ded-a741-0b1f8236b76f
X-WR-CALDESC:Join us for breakfast at the Center!
X-WR-RELCALID:4c9a16a26ad4826cfad29b488d046e7c
X-WR-TIMEZONE:America/New_York
BEGIN:VTIMEZONE
TZID:America/New_York
BEGIN:STANDARD
TZNAME:EST
DTSTART:20261101T020000
TZOFFSETFROM:-0400
TZOFFSETTO:-0500
RDATE:20271107T020000
END:STANDARD
BEGIN:DAYLIGHT
TZNAME:EDT
DTSTART:20260308T020000
TZOFFSETFROM:-0500
TZOFFSETTO:-0400
RDATE:20270314T020000
RDATE:20280312T020000
END:DAYLIGHT
END:VTIMEZONE
BEGIN:VEVENT
UID:3d764611-6463-4b3b-aa94-dbf82325e087
DTSTAMP:20260423T101014Z
DESCRIPTION:Join us for breakfast at the Center!
DTSTART;TZID=America/New_York:20261211T090000
DTEND;TZID=America/New_York:20261211T100000
LOCATION:
SUMMARY:Breakfast Club (In Center)
END:VEVENT
END:VCALENDAR
