BEGIN:VCALENDAR
VERSION:2.0
PRODID:-//rssny.org//NONSGML kigkonsult.se iCalcreator 2.30.10//
CALSCALE:GREGORIAN
METHOD:PUBLISH
UID:8a5a8859-fabc-43ef-be67-0ef82581fd4c
X-WR-CALDESC:Join us for breakfast at the Center!
X-WR-RELCALID:4ab38fe9c4de617567fb2c2269f5ff60
X-WR-TIMEZONE:America/New_York
BEGIN:VTIMEZONE
TZID:America/New_York
BEGIN:STANDARD
TZNAME:EST
DTSTART:20261101T020000
TZOFFSETFROM:-0400
TZOFFSETTO:-0500
RDATE:20271107T020000
END:STANDARD
BEGIN:DAYLIGHT
TZNAME:EDT
DTSTART:20260308T020000
TZOFFSETFROM:-0500
TZOFFSETTO:-0400
RDATE:20270314T020000
RDATE:20280312T020000
END:DAYLIGHT
END:VTIMEZONE
BEGIN:VEVENT
UID:3df7219a-a117-40e7-a7cc-f7dedaa902cb
DTSTAMP:20260423T103443Z
DESCRIPTION:Join us for breakfast at the Center!
DTSTART;TZID=America/New_York:20261209T090000
DTEND;TZID=America/New_York:20261209T100000
LOCATION:
SUMMARY:Breakfast Club (In Center)
END:VEVENT
END:VCALENDAR
