BEGIN:VCALENDAR
VERSION:2.0
PRODID:-//rssny.org//NONSGML kigkonsult.se iCalcreator 2.30.10//
CALSCALE:GREGORIAN
METHOD:PUBLISH
UID:4c0bc4fa-25c3-4cfb-8a0b-d60527a3d90c
X-WR-CALDESC:Join us for breakfast at the Center!
X-WR-RELCALID:9dea668133145c2993c19f65e62c2bf8
X-WR-TIMEZONE:America/New_York
BEGIN:VTIMEZONE
TZID:America/New_York
BEGIN:STANDARD
TZNAME:EST
DTSTART:20261101T020000
TZOFFSETFROM:-0400
TZOFFSETTO:-0500
RDATE:20271107T020000
END:STANDARD
BEGIN:DAYLIGHT
TZNAME:EDT
DTSTART:20260308T020000
TZOFFSETFROM:-0500
TZOFFSETTO:-0400
RDATE:20270314T020000
RDATE:20280312T020000
END:DAYLIGHT
END:VTIMEZONE
BEGIN:VEVENT
UID:d2e3c7cc-37e0-490b-b947-1b40dbac24c5
DTSTAMP:20260423T103443Z
DESCRIPTION:Join us for breakfast at the Center!
DTSTART;TZID=America/New_York:20261204T090000
DTEND;TZID=America/New_York:20261204T100000
LOCATION:
SUMMARY:Breakfast Club (In Center)
END:VEVENT
END:VCALENDAR
